BEGIN:VCALENDAR
VERSION:2.0
PRODID:-//Spatzennest Kerken - ECPv6.15.20//NONSGML v1.0//EN
CALSCALE:GREGORIAN
METHOD:PUBLISH
X-ORIGINAL-URL:https://spatzennest-kerken.de
X-WR-CALDESC:Veranstaltungen für Spatzennest Kerken
REFRESH-INTERVAL;VALUE=DURATION:PT1H
X-Robots-Tag:noindex
X-PUBLISHED-TTL:PT1H
BEGIN:VTIMEZONE
TZID:Europe/Berlin
BEGIN:DAYLIGHT
TZOFFSETFROM:+0100
TZOFFSETTO:+0200
TZNAME:CEST
DTSTART:20240331T010000
END:DAYLIGHT
BEGIN:STANDARD
TZOFFSETFROM:+0200
TZOFFSETTO:+0100
TZNAME:CET
DTSTART:20241027T010000
END:STANDARD
BEGIN:DAYLIGHT
TZOFFSETFROM:+0100
TZOFFSETTO:+0200
TZNAME:CEST
DTSTART:20250330T010000
END:DAYLIGHT
BEGIN:STANDARD
TZOFFSETFROM:+0200
TZOFFSETTO:+0100
TZNAME:CET
DTSTART:20251026T010000
END:STANDARD
BEGIN:DAYLIGHT
TZOFFSETFROM:+0100
TZOFFSETTO:+0200
TZNAME:CEST
DTSTART:20260329T010000
END:DAYLIGHT
BEGIN:STANDARD
TZOFFSETFROM:+0200
TZOFFSETTO:+0100
TZNAME:CET
DTSTART:20261025T010000
END:STANDARD
BEGIN:DAYLIGHT
TZOFFSETFROM:+0100
TZOFFSETTO:+0200
TZNAME:CEST
DTSTART:20270328T010000
END:DAYLIGHT
BEGIN:STANDARD
TZOFFSETFROM:+0200
TZOFFSETTO:+0100
TZNAME:CET
DTSTART:20271031T010000
END:STANDARD
END:VTIMEZONE
BEGIN:VEVENT
DTSTART;TZID=Europe/Berlin:20260423T080000
DTEND;TZID=Europe/Berlin:20260423T100000
DTSTAMP:20260424T230440
CREATED:20251208T090841Z
LAST-MODIFIED:20251208T090847Z
UID:6707-1776931200-1776938400@spatzennest-kerken.de
SUMMARY:Familienberatung
DESCRIPTION:Die Familienberatung der Caritas-Beratungsstelle Geldern-Kevelaer bietet Raum und Zeit für sämtliche Fragen rund um Erziehung\, Familie und Schule. Dabei bist Du nicht nur in Notlagen (z.B. Schulden- und Insolvenzberatung)\, sondern auch mit „alltäglichen“ Themen\, die Dich und Deine Familie bewegen\, willkommen. Wir bieten Dir einen vertraulichen Ort\, an dem Du Unterstützung\, Vernetzung\, den Kontakt und die Begegnung findest. \n\n\n\nAuch Kinder und Jugendliche können sich – unabhängig von ihren Eltern – an uns wenden. \n\n\n\nSandra Claßen\, Sozialpädagogin und Sozialarbeiterin\, sowie systemische Beraterin und Therapeutin der Caritas-Beratungsstelle Geldern-Kevelaer\, steht Familien im Familienzentrum zur Verfügung. \n\n\n\nDie Beratung ist kostenfrei\, eine vorherige telefonische Anmeldung unter 02833 – 69 60 ist unbedingt erforderlich.
URL:https://spatzennest-kerken.de/veranstaltung/familienberatung-9/
CATEGORIES:Familienzentrum
END:VEVENT
BEGIN:VEVENT
DTSTART;TZID=Europe/Berlin:20260406T000000
DTEND;TZID=Europe/Berlin:20260406T235959
DTSTAMP:20260424T230440
CREATED:20250604T062906Z
LAST-MODIFIED:20250604T062907Z
UID:6316-1775433600-1775519999@spatzennest-kerken.de
SUMMARY:Ostermontag
DESCRIPTION:Kindergarten geschlossen
URL:https://spatzennest-kerken.de/veranstaltung/ostermontag-3/
CATEGORIES:Kindergarten
END:VEVENT
BEGIN:VEVENT
DTSTART;TZID=Europe/Berlin:20260403T000000
DTEND;TZID=Europe/Berlin:20260403T235959
DTSTAMP:20260424T230440
CREATED:20250604T062805Z
LAST-MODIFIED:20250604T062806Z
UID:6314-1775174400-1775260799@spatzennest-kerken.de
SUMMARY:Karfreitag
DESCRIPTION:Kindergarten geschlossen
URL:https://spatzennest-kerken.de/veranstaltung/karfreitag-2/
CATEGORIES:Kindergarten
END:VEVENT
BEGIN:VEVENT
DTSTART;TZID=Europe/Berlin:20260402T000000
DTEND;TZID=Europe/Berlin:20260402T235959
DTSTAMP:20260424T230440
CREATED:20250825T110202Z
LAST-MODIFIED:20250825T110208Z
UID:6403-1775088000-1775174399@spatzennest-kerken.de
SUMMARY:Osterfeier im Kindergarten
DESCRIPTION:
URL:https://spatzennest-kerken.de/veranstaltung/osterfeier-im-kindergarten-2/
CATEGORIES:Kindergarten
END:VEVENT
BEGIN:VEVENT
DTSTART;TZID=Europe/Berlin:20260327T091500
DTEND;TZID=Europe/Berlin:20260327T094500
DTSTAMP:20260424T230440
CREATED:20260120T115007Z
LAST-MODIFIED:20260120T115017Z
UID:6863-1774602900-1774604700@spatzennest-kerken.de
SUMMARY:Wortgottesdienst
DESCRIPTION:mit Julius Kurschat
URL:https://spatzennest-kerken.de/veranstaltung/wortgottesdienst-13/
CATEGORIES:Kindergarten
END:VEVENT
BEGIN:VEVENT
DTSTART;TZID=Europe/Berlin:20260326T190000
DTEND;TZID=Europe/Berlin:20260326T220000
DTSTAMP:20260424T230440
CREATED:20260301T103628Z
LAST-MODIFIED:20260301T103632Z
UID:6964-1774551600-1774562400@spatzennest-kerken.de
SUMMARY:Elternstammtisch
DESCRIPTION:Unser Elternrat lädt zum Austausch und geselligen Beisammensein im Restaurant Urig ein. Wenn ihr teilnehmen möchtet\, meldet euch bitte bis zum 19.03.2026 per E-Mail an elternrat@spatzennest-kerken.de an. Die Unkosten an diesem Abend trägt jeder selbst. 
URL:https://spatzennest-kerken.de/veranstaltung/elternstammtisch-4/
CATEGORIES:Kindergarten
END:VEVENT
BEGIN:VEVENT
DTSTART;TZID=Europe/Berlin:20260324T140000
DTEND;TZID=Europe/Berlin:20260324T160000
DTSTAMP:20260424T230440
CREATED:20251208T090736Z
LAST-MODIFIED:20251208T090744Z
UID:6706-1774360800-1774368000@spatzennest-kerken.de
SUMMARY:Familienberatung
DESCRIPTION:Die Familienberatung der Caritas-Beratungsstelle Geldern-Kevelaer bietet Raum und Zeit für sämtliche Fragen rund um Erziehung\, Familie und Schule. Dabei bist Du nicht nur in Notlagen (z.B. Schulden- und Insolvenzberatung)\, sondern auch mit „alltäglichen“ Themen\, die Dich und Deine Familie bewegen\, willkommen. Wir bieten Dir einen vertraulichen Ort\, an dem Du Unterstützung\, Vernetzung\, den Kontakt und die Begegnung findest. \n\n\n\nAuch Kinder und Jugendliche können sich – unabhängig von ihren Eltern – an uns wenden. \n\n\n\nSandra Claßen\, Sozialpädagogin und Sozialarbeiterin\, sowie systemische Beraterin und Therapeutin der Caritas-Beratungsstelle Geldern-Kevelaer\, steht Familien im Familienzentrum zur Verfügung. \n\n\n\nDie Beratung ist kostenfrei\, eine vorherige telefonische Anmeldung unter 02833 – 69 60 ist unbedingt erforderlich.
URL:https://spatzennest-kerken.de/veranstaltung/familienberatung-8/
CATEGORIES:Familienzentrum
END:VEVENT
BEGIN:VEVENT
DTSTART;TZID=Europe/Berlin:20260318T190000
DTEND;TZID=Europe/Berlin:20260318T211500
DTSTAMP:20260424T230440
CREATED:20251208T143943Z
LAST-MODIFIED:20251210T131741Z
UID:6736-1773860400-1773868500@spatzennest-kerken.de
SUMMARY:Vortrag „Liebe-Grenzen-Konsequenzen“
DESCRIPTION:Eltern sind oft verunsichert\, ob und wie sie ihren Kindern Grenzen setzen sollen oder dürfen. Grenzen sind für das Heranwachsen von Kindern wichtig und helfen bei der Orientierung im Alltag.Welche entwicklungsbedingten Bedürfnisse haben Kinder und wo brauchen sie Freiräume\, um sich gut zu entwickeln? Wann sind Eltern gefordert\, liebevoll\, aber bestimmt Grenzen zu setzen?Wie funktioniert ein „Nein! “ aus Liebe und wie setzen Eltern das konsequent im Alltag um? \n\n\n\nDozentin: Martina Babenhauserheide \n\n\n\nKursort: Elterninitiative Kindergarten Spatzennest\, Aldekerk Gebühr: kostenfrei \n\n\n\nweitere Infos
URL:https://spatzennest-kerken.de/veranstaltung/vortrag-liebe-grenzen-konsequenzen/
CATEGORIES:Familienzentrum
END:VEVENT
BEGIN:VEVENT
DTSTART;TZID=Europe/Berlin:20260316T000000
DTEND;TZID=Europe/Berlin:20260327T235959
DTSTAMP:20260424T230440
CREATED:20250825T112305Z
LAST-MODIFIED:20250825T112308Z
UID:6418-1773619200-1774655999@spatzennest-kerken.de
SUMMARY:Entwicklungsgespräche für die Raupengruppe
DESCRIPTION:für die Eltern unserer Mini- und Midi-Kinder
URL:https://spatzennest-kerken.de/veranstaltung/entwicklungsgespraeche-fuer-die-raupengruppe-2/
END:VEVENT
BEGIN:VEVENT
DTSTART;TZID=Europe/Berlin:20260310T190000
DTEND;TZID=Europe/Berlin:20260310T203000
DTSTAMP:20260424T230440
CREATED:20260116T100407Z
LAST-MODIFIED:20260119T091358Z
UID:6841-1773169200-1773174600@spatzennest-kerken.de
SUMMARY:Elternabend "Ich kann das" -Selbstvertrauen stärken
DESCRIPTION:Jedes Kind möchte wachsen\, ausprobieren und an sich glauben. Doch wie entsteht dieses wichtige Gefühl von „Ich kann das!“? \n\n\n\nAn diesem Elternabend erfahren Sie\, \n\n\n\n· wie Kinder Selbstvertrauen entwickeln \n\n\n\n· welche Rolle Ermutigung und Begleitung im Alltag spielen \n\n\n\n· wie Sie Ihr Kind stärken können – auch bei Fehlern und Herausforderungen \n\n\n\nMit vielen alltagsnahen Beispielen\, Austausch und konkreten Impulsen für Zuhause. \n\n\n\nWer begleitet den Elternabend? \n\n\n\nMein Name ist Nina Cleven. Als Grundschullehrerin begleite ich Kinder täglich beim Lernen\, Wachsen und Entwickeln. Durch meine Tätigkeit erlebe ich\, wie unterschiedlich Kinder sind – und wie sehr sie davon profitieren\, gesehen und ermutigt zu werden. \n\n\n\nErgänzend zu meiner Arbeit in der Schule habe ich vor kurzem das Studium zur Entwicklungsberaterin beim Bildungswerk für therapeutische Berufe abgeschlossen. Diese Perspektive ermöglicht es mir\, Entwicklung ganzheitlich zu betrachten – mit Blick auf Lernen\, Wahrnehmung\, Emotionen und Selbstvertrauen. \n\n\n\nDer Elternabend ist praxisnah gestaltet und lädt zum Austausch ein. Ziel ist es\, Eltern zu stärken und Impulse für einen entspannten und vertrauensvollen Familienalltag mitzugeben. \n\n\n\nDozentin: Nina ClevenKursort: Elterninitiative Kindergarten Spatzennest\, Aldekerk Gebühr: kostenfrei \n\n\n\nAnmeldung & Information: familienzentrum@spatzennest-kerken.de \n\n\n\nweitere Infos
URL:https://spatzennest-kerken.de/veranstaltung/elternabend-ich-kann-das-selbstvertrauen-staerken/
CATEGORIES:Familienzentrum
END:VEVENT
BEGIN:VEVENT
DTSTART;TZID=Europe/Berlin:20260302T000000
DTEND;TZID=Europe/Berlin:20260313T235959
DTSTAMP:20260424T230440
CREATED:20250825T111917Z
LAST-MODIFIED:20260105T143425Z
UID:6419-1772409600-1773446399@spatzennest-kerken.de
SUMMARY:Entwicklungsgespräche für die Grashüpfergruppe
DESCRIPTION:für die Eltern unserer Mini- und Midi-Kinder
URL:https://spatzennest-kerken.de/veranstaltung/entwicklungsgespraeche-fuer-die-maulwurfgruppe-2/
END:VEVENT
BEGIN:VEVENT
DTSTART;TZID=Europe/Berlin:20260220T091500
DTEND;TZID=Europe/Berlin:20260220T094500
DTSTAMP:20260424T230440
CREATED:20260120T114840Z
LAST-MODIFIED:20260120T114843Z
UID:6864-1771578900-1771580700@spatzennest-kerken.de
SUMMARY:Wortgottesdienst
DESCRIPTION:mit Julius Kurschat
URL:https://spatzennest-kerken.de/veranstaltung/wortgottesdienst-12/
CATEGORIES:Kindergarten
END:VEVENT
BEGIN:VEVENT
DTSTART;TZID=Europe/Berlin:20260220T000000
DTEND;TZID=Europe/Berlin:20260220T235959
DTSTAMP:20260424T230440
CREATED:20260217T133650Z
LAST-MODIFIED:20260217T133653Z
UID:6936-1771545600-1771631999@spatzennest-kerken.de
SUMMARY:Teamfortbildung
DESCRIPTION:Unser Kindergarten schließt daher an diesem Tag um 13.00 Uhr.
URL:https://spatzennest-kerken.de/veranstaltung/teamfortbildung-2/
CATEGORIES:Kindergarten
END:VEVENT
BEGIN:VEVENT
DTSTART;TZID=Europe/Berlin:20260219T080000
DTEND;TZID=Europe/Berlin:20260219T100000
DTSTAMP:20260424T230440
CREATED:20251208T090608Z
LAST-MODIFIED:20251208T090616Z
UID:6705-1771488000-1771495200@spatzennest-kerken.de
SUMMARY:Familienberatung
DESCRIPTION:Die Familienberatung der Caritas-Beratungsstelle Geldern-Kevelaer bietet Raum und Zeit für sämtliche Fragen rund um Erziehung\, Familie und Schule. Dabei bist Du nicht nur in Notlagen (z.B. Schulden- und Insolvenzberatung)\, sondern auch mit „alltäglichen“ Themen\, die Dich und Deine Familie bewegen\, willkommen. Wir bieten Dir einen vertraulichen Ort\, an dem Du Unterstützung\, Vernetzung\, den Kontakt und die Begegnung findest. \n\n\n\nAuch Kinder und Jugendliche können sich – unabhängig von ihren Eltern – an uns wenden. \n\n\n\nSandra Claßen\, Sozialpädagogin und Sozialarbeiterin\, sowie systemische Beraterin und Therapeutin der Caritas-Beratungsstelle Geldern-Kevelaer\, steht Familien im Familienzentrum zur Verfügung. \n\n\n\nDie Beratung ist kostenfrei\, eine vorherige telefonische Anmeldung unter 02833 – 69 60 ist unbedingt erforderlich.
URL:https://spatzennest-kerken.de/veranstaltung/familienberatung-7/
CATEGORIES:Familienzentrum
END:VEVENT
BEGIN:VEVENT
DTSTART;TZID=Europe/Berlin:20260217T000000
DTEND;TZID=Europe/Berlin:20260227T235959
DTSTAMP:20260424T230440
CREATED:20250825T111824Z
LAST-MODIFIED:20260105T142812Z
UID:6420-1771286400-1772236799@spatzennest-kerken.de
SUMMARY:Entwicklungsgespräche für die Maulwurfgruppe
DESCRIPTION:für die Eltern unserer Mini- und Midi-Kinder
URL:https://spatzennest-kerken.de/veranstaltung/entwicklungsgespraeche-fuer-die-grashuepfergruppe-2/
END:VEVENT
BEGIN:VEVENT
DTSTART;TZID=Europe/Berlin:20260216T000000
DTEND;TZID=Europe/Berlin:20260216T235959
DTSTAMP:20260424T230440
CREATED:20251208T101708Z
LAST-MODIFIED:20251208T101713Z
UID:6723-1771200000-1771286399@spatzennest-kerken.de
SUMMARY:Rosenmontag
DESCRIPTION:Kindergarten geschlossen
URL:https://spatzennest-kerken.de/veranstaltung/rosenmontag/
CATEGORIES:Kindergarten
END:VEVENT
BEGIN:VEVENT
DTSTART;TZID=Europe/Berlin:20260212T000000
DTEND;TZID=Europe/Berlin:20260212T235959
DTSTAMP:20260424T230440
CREATED:20250825T111613Z
LAST-MODIFIED:20250825T111619Z
UID:6416-1770854400-1770940799@spatzennest-kerken.de
SUMMARY:Singkreis Karneval
DESCRIPTION:
URL:https://spatzennest-kerken.de/veranstaltung/singkreis-karneval/
END:VEVENT
BEGIN:VEVENT
DTSTART;TZID=Europe/Berlin:20260212T000000
DTEND;TZID=Europe/Berlin:20260212T235959
DTSTAMP:20260424T230440
CREATED:20250825T105953Z
LAST-MODIFIED:20250825T105955Z
UID:6401-1770854400-1770940799@spatzennest-kerken.de
SUMMARY:Karnevalsfeier im Kindergarten
DESCRIPTION:
URL:https://spatzennest-kerken.de/veranstaltung/karnevalsfeier-im-kindergarten-3/
CATEGORIES:Kindergarten
END:VEVENT
BEGIN:VEVENT
DTSTART;TZID=Europe/Berlin:20260204T100000
DTEND;TZID=Europe/Berlin:20260204T110000
DTSTAMP:20260424T230440
CREATED:20251210T081934Z
LAST-MODIFIED:20251210T130725Z
UID:6754-1770199200-1770202800@spatzennest-kerken.de
SUMMARY:Theateraufführung "Sterntaler" im Kindergarten
DESCRIPTION:An diesem Vormittag wird Stella Jabben vom Theater Blaues Haus für alle Kinder in der Turnhalle das Märchen „Sterntaler“ vorführen. Ein Märchen über Barmherzigkeit und Menschenliebe und welch universelle Kraft sie in der Welt auslösen. Gespielt aus den Taschen eines großen Rockes\, in dem sich Wiesen\, Wälder und Seen verbergen und natürlich die geheimnisvollen und schrägen Figuren\, denen Sterntaler auf ihrem Weg begegnet.
URL:https://spatzennest-kerken.de/veranstaltung/theaterauffuehrung-sterntaler-im-kindergarten/
CATEGORIES:Kindergarten
END:VEVENT
BEGIN:VEVENT
DTSTART;TZID=Europe/Berlin:20260120T140000
DTEND;TZID=Europe/Berlin:20260120T160000
DTSTAMP:20260424T230440
CREATED:20251208T090107Z
LAST-MODIFIED:20251208T090114Z
UID:6708-1768917600-1768924800@spatzennest-kerken.de
SUMMARY:Familienberatung
DESCRIPTION:Die Familienberatung der Caritas-Beratungsstelle Geldern-Kevelaer bietet Raum und Zeit für sämtliche Fragen rund um Erziehung\, Familie und Schule. Dabei bist Du nicht nur in Notlagen (z.B. Schulden- und Insolvenzberatung)\, sondern auch mit „alltäglichen“ Themen\, die Dich und Deine Familie bewegen\, willkommen. Wir bieten Dir einen vertraulichen Ort\, an dem Du Unterstützung\, Vernetzung\, den Kontakt und die Begegnung findest. \n\n\n\nAuch Kinder und Jugendliche können sich – unabhängig von ihren Eltern – an uns wenden. \n\n\n\nSandra Claßen\, Sozialpädagogin und Sozialarbeiterin\, sowie systemische Beraterin und Therapeutin der Caritas-Beratungsstelle Geldern-Kevelaer\, steht Familien im Familienzentrum zur Verfügung. \n\n\n\nDie Beratung ist kostenfrei\, eine vorherige telefonische Anmeldung unter 02833 – 69 60 ist unbedingt erforderlich.
URL:https://spatzennest-kerken.de/veranstaltung/familienberatung-6/
CATEGORIES:Familienzentrum
END:VEVENT
BEGIN:VEVENT
DTSTART;TZID=Europe/Berlin:20260105T000000
DTEND;TZID=Europe/Berlin:20260105T235959
DTSTAMP:20260424T230440
CREATED:20250110T105914Z
LAST-MODIFIED:20250110T105915Z
UID:5502-1767571200-1767657599@spatzennest-kerken.de
SUMMARY:1. Kindergartentag nach den Weihnachtsferien
DESCRIPTION:
URL:https://spatzennest-kerken.de/veranstaltung/1-kindergartentag-nach-den-weihnachtsferien-2/
CATEGORIES:Kindergarten
END:VEVENT
BEGIN:VEVENT
DTSTART;TZID=Europe/Berlin:20251222T000000
DTEND;TZID=Europe/Berlin:20260102T235959
DTSTAMP:20260424T230440
CREATED:20250110T105821Z
LAST-MODIFIED:20250110T105822Z
UID:4965-1766361600-1767398399@spatzennest-kerken.de
SUMMARY:Weihnachtsferien
DESCRIPTION:Kindergarten geschlossen
URL:https://spatzennest-kerken.de/veranstaltung/weihnachtsferien-2/
CATEGORIES:Kindergarten
END:VEVENT
BEGIN:VEVENT
DTSTART;TZID=Europe/Berlin:20251219T091500
DTEND;TZID=Europe/Berlin:20251219T094500
DTSTAMP:20260424T230440
CREATED:20250902T081314Z
LAST-MODIFIED:20250902T081318Z
UID:6439-1766135700-1766137500@spatzennest-kerken.de
SUMMARY:Wortgottesdienst
DESCRIPTION:mit Julius Kurschat
URL:https://spatzennest-kerken.de/veranstaltung/wortgottesdienst-11/
CATEGORIES:Kindergarten
END:VEVENT
BEGIN:VEVENT
DTSTART;TZID=Europe/Berlin:20251218T143000
DTEND;TZID=Europe/Berlin:20251218T153000
DTSTAMP:20260424T230440
CREATED:20250117T125655Z
LAST-MODIFIED:20251212T092150Z
UID:5624-1766068200-1766071800@spatzennest-kerken.de
SUMMARY:Singkreis Weihnachten
DESCRIPTION:An diesem Nachmittag treffen wir uns zum gemeinsamen Weihnachtsliedersingen im Kindergarten. Unser Elternrat bereitet ein gemütliches Beisammensein mit Keksen und Getränken vor.
URL:https://spatzennest-kerken.de/veranstaltung/weihnachtswerkstatt-im-kindergarten/
CATEGORIES:Kindergarten
END:VEVENT
BEGIN:VEVENT
DTSTART;TZID=Europe/Berlin:20251216T000000
DTEND;TZID=Europe/Berlin:20251216T235959
DTSTAMP:20260424T230440
CREATED:20250401T092302Z
LAST-MODIFIED:20250521T122254Z
UID:5940-1765843200-1765929599@spatzennest-kerken.de
SUMMARY:Maxi-Termin: Besuch des Weihnachtsmärchens "Die Nixe im Teich" in Straelen
DESCRIPTION:für unsere Maxi-Kinder\, weitere Infos folgen
URL:https://spatzennest-kerken.de/veranstaltung/maxi-termin-besuch-des-weihnachtsmaerchens-die-nixe-im-teich-in-straelen/
CATEGORIES:Kindergarten
END:VEVENT
BEGIN:VEVENT
DTSTART;TZID=Europe/Berlin:20251208T000000
DTEND;TZID=Europe/Berlin:20251208T235959
DTSTAMP:20260424T230440
CREATED:20240219T192638Z
LAST-MODIFIED:20251128T133406Z
UID:4433-1765152000-1765238399@spatzennest-kerken.de
SUMMARY:Nikolausfeier im Kindergarten
DESCRIPTION:Ich weiß was\, ich weiß was\, der Nikolaus kommt bald….. \n\n\n\n…. auch zu uns in den Kindergarten. An diesem Vormittag feiern unsere Kinder gemeinsam mit dem Team mit Nikolausliedern und einem gemütlichen Frühstück. Am Freitag zuvor werden in freudiger und gespannter Erwartung fleißig die Gummistiefel geputzt.
URL:https://spatzennest-kerken.de/veranstaltung/nikolausfeier-im-kindergarten/
CATEGORIES:Kindergarten
END:VEVENT
BEGIN:VEVENT
DTSTART;TZID=Europe/Berlin:20251204T080000
DTEND;TZID=Europe/Berlin:20251204T100000
DTSTAMP:20260424T230440
CREATED:20250604T062036Z
LAST-MODIFIED:20250604T062037Z
UID:6310-1764835200-1764842400@spatzennest-kerken.de
SUMMARY:Familienberatung
DESCRIPTION:Die Familienberatung der Caritas-Beratungsstelle Geldern-Kevelaer bietet Raum und Zeit für sämtliche Fragen rund um Erziehung\, Familie und Schule. Dabei bist Du nicht nur in Notlagen (z.B. Schulden- und Insolvenzberatung)\, sondern auch mit „alltäglichen“ Themen\, die Dich und Deine Familie bewegen\, willkommen. Wir bieten Dir einen vertraulichen Ort\, an dem Du Unterstützung\, Vernetzung\, den Kontakt und die Begegnung findest. \n\n\n\nAuch Kinder und Jugendliche können sich – unabhängig von ihren Eltern – an uns wenden. \n\n\n\nSandra Claßen\, Sozialpädagogin und Sozialarbeiterin\, sowie systemische Beraterin und Therapeutin der Caritas-Beratungsstelle Geldern-Kevelaer\, steht Familien im Familienzentrum zur Verfügung. \n\n\n\nDie Beratung ist kostenfrei\, eine vorherige telefonische Anmeldung unter 02833 – 69 60 ist unbedingt erforderlich.
URL:https://spatzennest-kerken.de/veranstaltung/familienberatung-5/
CATEGORIES:Familienzentrum
END:VEVENT
BEGIN:VEVENT
DTSTART;TZID=Europe/Berlin:20251129T110000
DTEND;TZID=Europe/Berlin:20251129T190000
DTSTAMP:20260424T230440
CREATED:20250616T140444Z
LAST-MODIFIED:20250616T140446Z
UID:6349-1764414000-1764442800@spatzennest-kerken.de
SUMMARY:4. Aldekerker Adventsmarkt
DESCRIPTION:
URL:https://spatzennest-kerken.de/veranstaltung/4-aldekerker-adventsmarkt/
END:VEVENT
BEGIN:VEVENT
DTSTART;TZID=Europe/Berlin:20251124T000000
DTEND;TZID=Europe/Berlin:20251128T235959
DTSTAMP:20260424T230440
CREATED:20250117T122551Z
LAST-MODIFIED:20251027T100752Z
UID:5599-1763942400-1764374399@spatzennest-kerken.de
SUMMARY:Buchausstellung
DESCRIPTION:In dieser Woche präsentiert der Bücherkoffer aus Geldern für uns wieder eine kleine\, feine Auswahl an Kinderliteratur. Ihr könnt in Ruhe stöbern und Eure Buchbestellung direkt im Kindergarten aufgeben.
URL:https://spatzennest-kerken.de/veranstaltung/buchausstellung-2/
CATEGORIES:Kindergarten
END:VEVENT
BEGIN:VEVENT
DTSTART;TZID=Europe/Berlin:20251121T091500
DTEND;TZID=Europe/Berlin:20251121T094500
DTSTAMP:20260424T230440
CREATED:20250902T081208Z
LAST-MODIFIED:20250902T081213Z
UID:6438-1763716500-1763718300@spatzennest-kerken.de
SUMMARY:Wortgottesdienst
DESCRIPTION:mit Julius Kurschat
URL:https://spatzennest-kerken.de/veranstaltung/wortgottesdienst-10/
CATEGORIES:Kindergarten
END:VEVENT
END:VCALENDAR