BEGIN:VCALENDAR
VERSION:2.0
PRODID:-//Spatzennest Kerken - ECPv6.15.20//NONSGML v1.0//EN
CALSCALE:GREGORIAN
METHOD:PUBLISH
X-ORIGINAL-URL:https://spatzennest-kerken.de
X-WR-CALDESC:Veranstaltungen für Spatzennest Kerken
REFRESH-INTERVAL;VALUE=DURATION:PT1H
X-Robots-Tag:noindex
X-PUBLISHED-TTL:PT1H
BEGIN:VTIMEZONE
TZID:Europe/Berlin
BEGIN:DAYLIGHT
TZOFFSETFROM:+0100
TZOFFSETTO:+0200
TZNAME:CEST
DTSTART:20250330T010000
END:DAYLIGHT
BEGIN:STANDARD
TZOFFSETFROM:+0200
TZOFFSETTO:+0100
TZNAME:CET
DTSTART:20251026T010000
END:STANDARD
BEGIN:DAYLIGHT
TZOFFSETFROM:+0100
TZOFFSETTO:+0200
TZNAME:CEST
DTSTART:20260329T010000
END:DAYLIGHT
BEGIN:STANDARD
TZOFFSETFROM:+0200
TZOFFSETTO:+0100
TZNAME:CET
DTSTART:20261025T010000
END:STANDARD
BEGIN:DAYLIGHT
TZOFFSETFROM:+0100
TZOFFSETTO:+0200
TZNAME:CEST
DTSTART:20270328T010000
END:DAYLIGHT
BEGIN:STANDARD
TZOFFSETFROM:+0200
TZOFFSETTO:+0100
TZNAME:CET
DTSTART:20271031T010000
END:STANDARD
BEGIN:DAYLIGHT
TZOFFSETFROM:+0100
TZOFFSETTO:+0200
TZNAME:CEST
DTSTART:20280326T010000
END:DAYLIGHT
BEGIN:STANDARD
TZOFFSETFROM:+0200
TZOFFSETTO:+0100
TZNAME:CET
DTSTART:20281029T010000
END:STANDARD
END:VTIMEZONE
BEGIN:VEVENT
DTSTART;TZID=Europe/Berlin:20260501T000000
DTEND;TZID=Europe/Berlin:20260501T235959
DTSTAMP:20260424T215145
CREATED:20250604T063004Z
LAST-MODIFIED:20250604T063006Z
UID:6318-1777593600-1777679999@spatzennest-kerken.de
SUMMARY:Tag der Arbeit
DESCRIPTION:Kindergarten geschlossen
URL:https://spatzennest-kerken.de/veranstaltung/tag-der-arbeit-3/
CATEGORIES:Kindergarten
END:VEVENT
BEGIN:VEVENT
DTSTART;TZID=Europe/Berlin:20260501T110000
DTEND;TZID=Europe/Berlin:20260501T180000
DTSTAMP:20260424T215145
CREATED:20260301T103847Z
LAST-MODIFIED:20260301T103850Z
UID:6966-1777633200-1777658400@spatzennest-kerken.de
SUMMARY:Dorf- und Feuerwehrfest
DESCRIPTION:Rund um das Feuerwehrhaus Aldekerk an der der Kempener Straße.
URL:https://spatzennest-kerken.de/veranstaltung/dorf-und-feuerwehrfest-2/
END:VEVENT
BEGIN:VEVENT
DTSTART;TZID=Europe/Berlin:20260504T000000
DTEND;TZID=Europe/Berlin:20260506T235959
DTSTAMP:20260424T215145
CREATED:20260225T090923Z
LAST-MODIFIED:20260313T090218Z
UID:6962-1777852800-1778111999@spatzennest-kerken.de
SUMMARY:Fototage im Kindergarten
DESCRIPTION:04.05.2026: Kinder der Raupengruppe \n\n\n\n05.05.2026: Kinder der Grashüpfergruppe \n\n\n\n06.05.2026: Kinder der Maulwurfgruppe \n\n\n\n06.05.2026: nachmittags Geschwisterbilder nach vorheriger Anmeldung \n\n\n\nBitte beachtet alle die Infos auf dem großen Plakat am blauen Infoboard im Eingangsbereich.
URL:https://spatzennest-kerken.de/veranstaltung/fototage-im-kindergarten/
CATEGORIES:Kindergarten
END:VEVENT
BEGIN:VEVENT
DTSTART;TZID=Europe/Berlin:20260513T083000
DTEND;TZID=Europe/Berlin:20260513T103000
DTSTAMP:20260424T215145
CREATED:20260416T120121Z
LAST-MODIFIED:20260416T120126Z
UID:7024-1778661000-1778668200@spatzennest-kerken.de
SUMMARY:Besuch der Zahngesundheit
DESCRIPTION:Unsere Spatzen üben zusammen mit Krokodil Ali die korrekte Zahnpflege.
URL:https://spatzennest-kerken.de/veranstaltung/besuch-der-zahngesundheit/
END:VEVENT
BEGIN:VEVENT
DTSTART;TZID=Europe/Berlin:20260514T000000
DTEND;TZID=Europe/Berlin:20260514T235959
DTSTAMP:20260424T215145
CREATED:20250604T063107Z
LAST-MODIFIED:20250604T063108Z
UID:6320-1778716800-1778803199@spatzennest-kerken.de
SUMMARY:Christi Himmelfahrt
DESCRIPTION:Kindergarten geschlossen
URL:https://spatzennest-kerken.de/veranstaltung/christi-himmelfahrt-3/
CATEGORIES:Kindergarten
END:VEVENT
BEGIN:VEVENT
DTSTART;TZID=Europe/Berlin:20260515T000000
DTEND;TZID=Europe/Berlin:20260515T235959
DTSTAMP:20260424T215145
CREATED:20250604T063150Z
LAST-MODIFIED:20250604T063151Z
UID:6322-1778803200-1778889599@spatzennest-kerken.de
SUMMARY:Brückentag nach Christi Himmelfahrt
DESCRIPTION:Kindergarten geschlossen
URL:https://spatzennest-kerken.de/veranstaltung/brueckentag-nach-christi-himmelfahrt-3/
CATEGORIES:Kindergarten
END:VEVENT
BEGIN:VEVENT
DTSTART;TZID=Europe/Berlin:20260519T140000
DTEND;TZID=Europe/Berlin:20260519T160000
DTSTAMP:20260424T215145
CREATED:20251208T090959Z
LAST-MODIFIED:20251208T091006Z
UID:6704-1779199200-1779206400@spatzennest-kerken.de
SUMMARY:Familienberatung
DESCRIPTION:Die Familienberatung der Caritas-Beratungsstelle Geldern-Kevelaer bietet Raum und Zeit für sämtliche Fragen rund um Erziehung\, Familie und Schule. Dabei bist Du nicht nur in Notlagen (z.B. Schulden- und Insolvenzberatung)\, sondern auch mit „alltäglichen“ Themen\, die Dich und Deine Familie bewegen\, willkommen. Wir bieten Dir einen vertraulichen Ort\, an dem Du Unterstützung\, Vernetzung\, den Kontakt und die Begegnung findest. \n\n\n\nAuch Kinder und Jugendliche können sich – unabhängig von ihren Eltern – an uns wenden. \n\n\n\nSandra Claßen\, Sozialpädagogin und Sozialarbeiterin\, sowie systemische Beraterin und Therapeutin der Caritas-Beratungsstelle Geldern-Kevelaer\, steht Familien im Familienzentrum zur Verfügung. \n\n\n\nDie Beratung ist kostenfrei\, eine vorherige telefonische Anmeldung unter 02833 – 69 60 ist unbedingt erforderlich.
URL:https://spatzennest-kerken.de/veranstaltung/familienberatung-10/
CATEGORIES:Familienzentrum
END:VEVENT
BEGIN:VEVENT
DTSTART;TZID=Europe/Berlin:20260525T000000
DTEND;TZID=Europe/Berlin:20260525T235959
DTSTAMP:20260424T215145
CREATED:20250604T063259Z
LAST-MODIFIED:20250604T063301Z
UID:6324-1779667200-1779753599@spatzennest-kerken.de
SUMMARY:Pfingstmontag
DESCRIPTION:Kindergarten geschlossen
URL:https://spatzennest-kerken.de/veranstaltung/pfingstmontag-3/
CATEGORIES:Kindergarten
END:VEVENT
BEGIN:VEVENT
DTSTART;TZID=Europe/Berlin:20260604T000000
DTEND;TZID=Europe/Berlin:20260604T235959
DTSTAMP:20260424T215145
CREATED:20250604T063358Z
LAST-MODIFIED:20250604T063359Z
UID:6326-1780531200-1780617599@spatzennest-kerken.de
SUMMARY:Fronleichnam
DESCRIPTION:Kindergarten geschlossen
URL:https://spatzennest-kerken.de/veranstaltung/fronleichnam-3/
CATEGORIES:Kindergarten
END:VEVENT
BEGIN:VEVENT
DTSTART;TZID=Europe/Berlin:20260605T000000
DTEND;TZID=Europe/Berlin:20260605T235959
DTSTAMP:20260424T215145
CREATED:20250604T063444Z
LAST-MODIFIED:20250604T063446Z
UID:6328-1780617600-1780703999@spatzennest-kerken.de
SUMMARY:Brückentag nach Fronleichnam
DESCRIPTION:Kindergarten geschlossen
URL:https://spatzennest-kerken.de/veranstaltung/brueckentag-nach-fronleichnam-3/
CATEGORIES:Kindergarten
END:VEVENT
BEGIN:VEVENT
DTSTART;TZID=Europe/Berlin:20260611T000000
DTEND;TZID=Europe/Berlin:20260611T235959
DTSTAMP:20260424T215145
CREATED:20260203T093324Z
LAST-MODIFIED:20260203T093328Z
UID:6918-1781136000-1781222399@spatzennest-kerken.de
SUMMARY:Maxi-Termin: Besuch bei der Polizeiwache Geldern
DESCRIPTION:für unsere Maxi-Kinder
URL:https://spatzennest-kerken.de/veranstaltung/maxi-termin-besuch-bei-der-polizeiwache-geldern/
CATEGORIES:Kindergarten
END:VEVENT
BEGIN:VEVENT
DTSTART;TZID=Europe/Berlin:20260619T160000
DTEND;TZID=Europe/Berlin:20260619T190000
DTSTAMP:20260424T215145
CREATED:20251208T144300Z
LAST-MODIFIED:20260305T115706Z
UID:6738-1781884800-1781895600@spatzennest-kerken.de
SUMMARY:Workshop „Kleiner Koch- großer Koch" für (Groß-)Eltern und Kinder von 4-6 Jahren“
DESCRIPTION:Gemeinsam kochen mit kleinen und großen Köchen\, den Tisch schön decken und natürlich das Essen gemeinsam genießen\, wollen wir an diesem Nachmittag.Die kleinen Köche können mit Hilfe der Erwachsenen ganz praktisch zur Tat schreiten\, Umgang mit Lebensmitteln erlenen\, Lust und Neugier zum Ausprobieren verschiedener Nahrungsmittel entwickeln und Impulse zur bewussten\, gesunden Ernährung bekommen. Ganz nebenbei erfahren sie\, wie lecker gesundes Essen sein kann.Die großen Köche bekommen allgemeine Informationen zur gesunden Familienküche und Tipps zur Planung des Einkaufs. \n\n\n\nBitte beachte die Altersangabe\, die für die teilnehmenden Kinder geplant wurde. Pro Kurs ist die Aufnahme von zwei Geschwistern insgesamt möglich\, bitte beachte auch hier die Altersangabe für das Angebot. \n\n\n\nDozentin: Waltraud MeyerKursort: Elterninitiative Kindergarten Spatzennest\, Aldekerk Gebühr: 10\,00€ Lebensmittelumlage pro Eltern-Kind-Paar\, Geschwisterkinder zahlen 5\,00€ Lebensmittelumlage \n\n\n\nweitere Infos
URL:https://spatzennest-kerken.de/veranstaltung/workshop-kleiner-koch-grosser-koch-fuer-gross-eltern-und-kinder-von-4-6-jahren/
CATEGORIES:Familienzentrum
END:VEVENT
BEGIN:VEVENT
DTSTART;TZID=Europe/Berlin:20260625T080000
DTEND;TZID=Europe/Berlin:20260625T100000
DTSTAMP:20260424T215145
CREATED:20251208T091120Z
LAST-MODIFIED:20251208T091127Z
UID:6703-1782374400-1782381600@spatzennest-kerken.de
SUMMARY:Familienberatung
DESCRIPTION:Die Familienberatung der Caritas-Beratungsstelle Geldern-Kevelaer bietet Raum und Zeit für sämtliche Fragen rund um Erziehung\, Familie und Schule. Dabei bist Du nicht nur in Notlagen (z.B. Schulden- und Insolvenzberatung)\, sondern auch mit „alltäglichen“ Themen\, die Dich und Deine Familie bewegen\, willkommen. Wir bieten Dir einen vertraulichen Ort\, an dem Du Unterstützung\, Vernetzung\, den Kontakt und die Begegnung findest. \n\n\n\nAuch Kinder und Jugendliche können sich – unabhängig von ihren Eltern – an uns wenden. \n\n\n\nSandra Claßen\, Sozialpädagogin und Sozialarbeiterin\, sowie systemische Beraterin und Therapeutin der Caritas-Beratungsstelle Geldern-Kevelaer\, steht Familien im Familienzentrum zur Verfügung. \n\n\n\nDie Beratung ist kostenfrei\, eine vorherige telefonische Anmeldung unter 02833 – 69 60 ist unbedingt erforderlich.
URL:https://spatzennest-kerken.de/veranstaltung/familienberatung-11/
CATEGORIES:Familienzentrum
END:VEVENT
BEGIN:VEVENT
DTSTART;TZID=Europe/Berlin:20260626T000000
DTEND;TZID=Europe/Berlin:20260626T235959
DTSTAMP:20260424T215145
CREATED:20250825T110331Z
LAST-MODIFIED:20250825T110335Z
UID:6405-1782432000-1782518399@spatzennest-kerken.de
SUMMARY:Ausflug mit dem gesamten Kindergarten
DESCRIPTION:
URL:https://spatzennest-kerken.de/veranstaltung/ausflug-mit-dem-gesamten-kindergarten/
END:VEVENT
BEGIN:VEVENT
DTSTART;TZID=Europe/Berlin:20260713T190000
DTEND;TZID=Europe/Berlin:20260713T203000
DTSTAMP:20260424T215145
CREATED:20260116T100803Z
LAST-MODIFIED:20260119T090129Z
UID:6840-1783969200-1783974600@spatzennest-kerken.de
SUMMARY:Elternabend "Sinne als Türöffner"
DESCRIPTION:Kinder entdecken die Welt mit allen Sinnen – sie sind die Grundlage für Lernen\, Verhalten und Entwicklung. \n\n\n\nAn diesem Elternabend geht es darum\, \n\n\n\n· warum Sinneswahrnehmung so wichtig ist \n\n\n\n· wie sie Konzentration\, Sprache und Bewegung beeinflusst \n\n\n\n· wie Sie Ihr Kind im Alltag spielerisch unterstützen können \n\n\n\nMit einfachen Praxisideen\, die sich leicht in den Familienalltag integrieren lassen. \n\n\n\nWer begleitet den Elternabend? \n\n\n\nMein Name ist Nina Cleven. Als Grundschullehrerin begleite ich Kinder täglich beim Lernen\, Wachsen und Entwickeln. Durch meine Tätigkeit erlebe ich\, wie unterschiedlich Kinder sind – und wie sehr sie davon profitieren\, gesehen und ermutigt zu werden. \n\n\n\nErgänzend zu meiner Arbeit in der Schule habe ich vor kurzem das Studium zur Entwicklungsberaterin beim Bildungswerk für therapeutische Berufe abgeschlossen. Diese Perspektive ermöglicht es mir\, Entwicklung ganzheitlich zu betrachten – mit Blick auf Lernen\, Wahrnehmung\, Emotionen und Selbstvertrauen. \n\n\n\nDer Elternabend ist praxisnah gestaltet und lädt zum Austausch ein. Ziel ist es\, Eltern zu stärken und Impulse für einen entspannten und vertrauensvollen Familienalltag mitzugeben. \n\n\n\nDozentin: Nina ClevenKursort: Elterninitiative Kindergarten Spatzennest\, Aldekerk Gebühr: kostenfrei \n\n\n\nweitere Infos
URL:https://spatzennest-kerken.de/veranstaltung/elternabend-sinne-als-tueroeffner/
CATEGORIES:Familienzentrum
END:VEVENT
BEGIN:VEVENT
DTSTART;TZID=Europe/Berlin:20260717T000000
DTEND;TZID=Europe/Berlin:20260717T235959
DTSTAMP:20260424T215145
CREATED:20250825T110658Z
LAST-MODIFIED:20250825T110702Z
UID:6407-1784246400-1784332799@spatzennest-kerken.de
SUMMARY:Maxi-Termin: Übernachtungsfest und Abschluss
DESCRIPTION:für unsere Maxi-Kinder\, weitere Infos siehe Einladungspost
URL:https://spatzennest-kerken.de/veranstaltung/maxi-termin-uebernachtungsfest-und-abschluss/
CATEGORIES:Kindergarten
END:VEVENT
BEGIN:VEVENT
DTSTART;TZID=Europe/Berlin:20260810T000000
DTEND;TZID=Europe/Berlin:20260828T235959
DTSTAMP:20260424T215145
CREATED:20251208T112931Z
LAST-MODIFIED:20251208T112937Z
UID:6725-1786320000-1787961599@spatzennest-kerken.de
SUMMARY:Sommerferien
DESCRIPTION:Kindergarten geschlossen
URL:https://spatzennest-kerken.de/veranstaltung/sommerferien-2/
CATEGORIES:Kindergarten
END:VEVENT
BEGIN:VEVENT
DTSTART;TZID=Europe/Berlin:20260831T000000
DTEND;TZID=Europe/Berlin:20260831T235900
DTSTAMP:20260424T215145
CREATED:20251208T113233Z
LAST-MODIFIED:20251208T113238Z
UID:6727-1788134400-1788220740@spatzennest-kerken.de
SUMMARY:1. Kindergartentag nach den Sommerferien
DESCRIPTION:
URL:https://spatzennest-kerken.de/veranstaltung/1-kindergartentag-nach-den-sommerferien-3/
CATEGORIES:Kindergarten
END:VEVENT
BEGIN:VEVENT
DTSTART;TZID=Europe/Berlin:20260912T100000
DTEND;TZID=Europe/Berlin:20260912T110000
DTSTAMP:20260424T215145
CREATED:20260116T095725Z
LAST-MODIFIED:20260119T091152Z
UID:6835-1789207200-1789210800@spatzennest-kerken.de
SUMMARY:Eltern-Kind-Workshop „Mutig werden" für Kinder von 4-8 Jahren mit Eltern
DESCRIPTION:Mut ist eine wichtige Grundlage für Entwicklung\, Lernen und Selbstvertrauen. Kinder brauchen Mut\, um Neues auszuprobieren\, Herausforderungen anzunehmen und an sich zu glauben. \n\n\n\nIn diesem Workshop erfahren Eltern\, \n\n\n\n· was Mut im Kindesalter wirklich bedeutet \n\n\n\n· wie Ängste und Unsicherheiten einzuordnen sind \n\n\n\n· wie Kinder im Alltag ermutigt und gestärkt werden können \n\n\n\nMit vielen praktischen Beispielen\, Austausch und konkreten Impulsen für Zuhause – damit Kinder Schritt für Schritt ihren eigenen Weg gehen können. \n\n\n\nBegleitung des Workshops: \n\n\n\nDer Workshop wird von einer ausgebildeten Grundschullehrerin und Entwicklungsberaterin (BTB) geleitet. Pädagogische Erfahrung aus dem Schulalltag trifft auf einen ganzheitlichen Blick auf kindliche Entwicklung – wertschätzend\, praxisnah und auf Augenhöhe. \n\n\n\nDozentin: Nina Cleven \n\n\n\nKursort: Elterninitiative Kindergarten Spatzennest\, Aldekerk \n\n\n\nGebühr: 12€ pro Eltern-Kind-Paar \n\n\n\nAnmeldung & Information: Nina Cleven ncpaedagogik@web.de \n\n\n\nweitere Infos
URL:https://spatzennest-kerken.de/veranstaltung/eltern-kind-workshop-mutig-werden-fuer-kinder-von-4-8-jahren-mit-eltern/
CATEGORIES:Familienzentrum
END:VEVENT
BEGIN:VEVENT
DTSTART;TZID=Europe/Berlin:20260930T193000
DTEND;TZID=Europe/Berlin:20260930T214500
DTSTAMP:20260424T215145
CREATED:20251212T093814Z
LAST-MODIFIED:20260111T115855Z
UID:6772-1790796600-1790804700@spatzennest-kerken.de
SUMMARY:Vortrag „Sexuelle Entwicklung im Kindesalter"
DESCRIPTION:Sexualerziehung ist zuerst und vorrangig Aufgabe der Eltern. Wann beginnt denn die frühkindliche sexuelle Entwicklung? Wie zeigt sie sich in den verschiedenen Altersstufen? Wie können Eltern sach- und kindgemäß über Sexualität sprechen? Was müssen sie dabei berücksichtigen? Hierzu gibt es Informationen und die Möglichkeit des Austauschs. \n\n\n\nDozentin: Antje FreudenbergKursort: Elterninitiative Kindergarten Spatzennest\, Aldekerk Gebühr: kostenfrei \n\n\n\nweitere Infos
URL:https://spatzennest-kerken.de/veranstaltung/vortrag-sexuelle-entwicklung-im-kindesalter/
CATEGORIES:Familienzentrum
END:VEVENT
BEGIN:VEVENT
DTSTART;TZID=Europe/Berlin:20261006T190000
DTEND;TZID=Europe/Berlin:20261006T211500
DTSTAMP:20260424T215145
CREATED:20251212T094320Z
LAST-MODIFIED:20260116T100107Z
UID:6774-1791313200-1791321300@spatzennest-kerken.de
SUMMARY:Online-Vortrag „Notfälle im Säuglings- und Kleinkindalter"
DESCRIPTION:Die häufigsten medizinischen Notfälle im Kindesalter werden angesprochen und einfache\, wirksame Sofortmaßnahmen vorgestellt. \n\n\n\nDozentin: Jessica Hendriks \n\n\n\nKursort:  Zoom \n\n\n\nGebühren: kostenfrei \n\n\n\nAnmeldung & Information: Familienzentrum Spatzennest familienzentrum@spatzennest-kerken.de \n\n\n\nWeitere Infos
URL:https://spatzennest-kerken.de/veranstaltung/online-vortrag-notfaelle-im-saeuglings-und-kleinkindalter/
CATEGORIES:Familienzentrum
END:VEVENT
BEGIN:VEVENT
DTSTART;TZID=Europe/Berlin:20261128T110000
DTEND;TZID=Europe/Berlin:20261128T190000
DTSTAMP:20260424T215145
CREATED:20260301T104142Z
LAST-MODIFIED:20260301T104145Z
UID:6968-1795863600-1795892400@spatzennest-kerken.de
SUMMARY:5. Aldekerker Adventsmarkt
DESCRIPTION:
URL:https://spatzennest-kerken.de/veranstaltung/5-aldekerker-adventsmarkt/
END:VEVENT
BEGIN:VEVENT
DTSTART;TZID=Europe/Berlin:20261215T000000
DTEND;TZID=Europe/Berlin:20261215T235959
DTSTAMP:20260424T215145
CREATED:20260413T110636Z
LAST-MODIFIED:20260413T110642Z
UID:7007-1797292800-1797379199@spatzennest-kerken.de
SUMMARY:Maxi-Termin: Besuch des Weihnachtsmärchens "Prinzessin Maleen" in Straelen
DESCRIPTION:für unsere Maxi-Kinder\, weitere Infos folgen
URL:https://spatzennest-kerken.de/veranstaltung/maxi-termin-besuch-des-weihnachtsmaerchens-prinzessin-maleen-in-straelen/
CATEGORIES:Kindergarten
END:VEVENT
BEGIN:VEVENT
DTSTART;TZID=Europe/Berlin:20261224T000000
DTEND;TZID=Europe/Berlin:20270101T235959
DTSTAMP:20260424T215145
CREATED:20251208T113945Z
LAST-MODIFIED:20251208T114156Z
UID:6731-1798070400-1798847999@spatzennest-kerken.de
SUMMARY:Weihnachtsferien
DESCRIPTION:Kindergarten geschlossen
URL:https://spatzennest-kerken.de/veranstaltung/weihnachtsferien-3/
CATEGORIES:Kindergarten
END:VEVENT
BEGIN:VEVENT
DTSTART;TZID=Europe/Berlin:20270104T000000
DTEND;TZID=Europe/Berlin:20270104T235959
DTSTAMP:20260424T215145
CREATED:20251208T114103Z
LAST-MODIFIED:20251208T114109Z
UID:6732-1799020800-1799107199@spatzennest-kerken.de
SUMMARY:1. Kindergartentag nach den Weihnachtsferien
DESCRIPTION:
URL:https://spatzennest-kerken.de/veranstaltung/1-kindergartentag-nach-den-weihnachtsferien-3/
CATEGORIES:Kindergarten
END:VEVENT
END:VCALENDAR